BEGIN:VCALENDAR
VERSION:2.0
PRODID:-//Automobilsällskapet Nyköping - ECPv4.7.3//NONSGML v1.0//EN
CALSCALE:GREGORIAN
METHOD:PUBLISH
X-WR-CALNAME:Automobilsällskapet Nyköping
X-ORIGINAL-URL:http://automobilsallskapet.se
X-WR-CALDESC:Händelser för Automobilsällskapet Nyköping
BEGIN:VEVENT
DTSTART;TZID=Europe/Stockholm:20210731T130000
DTEND;TZID=Europe/Stockholm:20210731T150000
DTSTAMP:20260420T143840
CREATED:20210407T130545Z
LAST-MODIFIED:20210407T130545Z
UID:11422-1627736400-1627743600@automobilsallskapet.se
SUMMARY:Lördagsrundan
DESCRIPTION:Kör rundan mellan 13 och 14 – sedan fika på Skavsta \n
URL:http://automobilsallskapet.se/event/lordagsrundan-19
END:VEVENT
END:VCALENDAR