BEGIN:VCALENDAR
VERSION:2.0
PRODID:-//Automobilsällskapet Nyköping - ECPv4.7.3//NONSGML v1.0//EN
CALSCALE:GREGORIAN
METHOD:PUBLISH
X-WR-CALNAME:Automobilsällskapet Nyköping
X-ORIGINAL-URL:http://automobilsallskapet.se
X-WR-CALDESC:Händelser för Automobilsällskapet Nyköping
BEGIN:VEVENT
DTSTART;TZID=Europe/Stockholm:20200906T120000
DTEND;TZID=Europe/Stockholm:20200906T160000
DTSTAMP:20260425T152907
CREATED:20200820T070559Z
LAST-MODIFIED:20200820T070559Z
UID:11238-1599393600-1599408000@automobilsallskapet.se
SUMMARY:Premiär för söndagsöppet och BAKLUCKELOPPIS
DESCRIPTION:Nu drar vi igång söndagsöppet för medlemmar\, men vi toköppnar med Bakluckeloppis i trädgården bakom klubblokalen  och då kan vem som helst delta och sälja i princip vad som helst. Det kostar ingenting att delta\, men man måste ha eget bord med sig – eller förstås sälja direkt ur bakluckan.  Vi öppnar 12.00 och håller på till 16.00. Fika finns att köpa i klubblokalen. \n  \n
URL:http://automobilsallskapet.se/event/premiar-for-sondagsoppet-och-bakluckeloppis
END:VEVENT
END:VCALENDAR