BEGIN:VCALENDAR
VERSION:2.0
PRODID:-//Automobilsällskapet Nyköping - ECPv4.7.3//NONSGML v1.0//EN
CALSCALE:GREGORIAN
METHOD:PUBLISH
X-WR-CALNAME:Automobilsällskapet Nyköping
X-ORIGINAL-URL:http://automobilsallskapet.se
X-WR-CALDESC:Händelser för Automobilsällskapet Nyköping
BEGIN:VEVENT
DTSTART;TZID=Europe/Stockholm:20200905T120000
DTEND;TZID=Europe/Stockholm:20200905T120000
DTSTAMP:20260425T152928
CREATED:20200820T065919Z
LAST-MODIFIED:20200904T190703Z
UID:11235-1599307200-1599307200@automobilsallskapet.se
SUMMARY:Utflykt till Prima Pinaler I Mölnbo
DESCRIPTION:Vår medlem i Mölnbo – Mäggie Eriksson – har initierat den här utflykten med mål Antik- och prylbutiken Prima Pinaler. Vi tar med oss egen fika- eller lunchkorg. Avfärd kl 12.00 från Coop-parkeringen i Brandkärr. Vi åker gamla E4:an till Lästringe där vi svänger in på Gnestavägen\, väg 224.. I Gnesta höger i rondellen mot Järna och Södertälje.  Max 30 personer kan delta eftersom man släpper bara in 10 personer åt gången i butiken för att man ska kunna hålla avstånd. \nObligatorisk anmälan till Urban på tel 070-2141464 eller till info@automobilsallskapet.se \nVid ruskväder ställs utflykten in. \n
URL:http://automobilsallskapet.se/event/utflykt-till-prima-pinaler-i-molnbo
END:VEVENT
END:VCALENDAR