BEGIN:VCALENDAR
VERSION:2.0
PRODID:-//Automobilsällskapet Nyköping - ECPv4.7.3//NONSGML v1.0//EN
CALSCALE:GREGORIAN
METHOD:PUBLISH
X-WR-CALNAME:Automobilsällskapet Nyköping
X-ORIGINAL-URL:http://automobilsallskapet.se
X-WR-CALDESC:Händelser för Automobilsällskapet Nyköping
BEGIN:VEVENT
DTSTART;TZID=Europe/Stockholm:20200822T140000
DTEND;TZID=Europe/Stockholm:20200822T160000
DTSTAMP:20260425T164957
CREATED:20200731T112205Z
LAST-MODIFIED:20200731T112205Z
UID:11213-1598104800-1598112000@automobilsallskapet.se
SUMMARY:Lördagsrundan med fikaträff på Skavsta
DESCRIPTION:Rundan enligt kartan 14 till 15  därefter fika på Skavsta \n \n
URL:http://automobilsallskapet.se/event/lordagsrundan-med-fikatraff-pa-skavsta
END:VEVENT
END:VCALENDAR