BEGIN:VCALENDAR
VERSION:2.0
PRODID:-//Automobilsällskapet Nyköping - ECPv4.7.3//NONSGML v1.0//EN
CALSCALE:GREGORIAN
METHOD:PUBLISH
X-WR-CALNAME:Automobilsällskapet Nyköping
X-ORIGINAL-URL:http://automobilsallskapet.se
X-WR-CALDESC:Händelser för Automobilsällskapet Nyköping
BEGIN:VEVENT
DTSTART;TZID=Europe/Stockholm:20200719T110000
DTEND;TZID=Europe/Stockholm:20200719T150000
DTSTAMP:20260425T182335
CREATED:20200704T132619Z
LAST-MODIFIED:20200704T132619Z
UID:11184-1595156400-1595170800@automobilsallskapet.se
SUMMARY:SOMMARUTFLYKTEN  "I Hans Rainers Hjulspår"     Andra försöket
DESCRIPTION:Eftersom vi tvingades ställa in sommarutflykten den 5e juli p g a regntunga skyar så gör vi nu ett nytt försök med samma upplägg – alltså en utflykt i närområdet till okänt mål. \nNi som anmälde er till första försöket har kvar era platser\, men om ni inte har möjlighet att vara med nu så vill vi veta detta så kanske någon annan kan ta er plats. Vi har ju maximerat antalet bilar till 20 så vi inte överskrider FHM:s rekommendationer. \nStart från f.d. Sagers Möbler i Bergshammar kl 11.00  med 1½ minut mellan starterna. Ni får en Roadbook så ni hittar till första besöksplatsen som är intressant och aktuell på samma gång. Vi tror att alla kommer att få ut något bra från besöket. Sedan en kort åktur till en naturskön plats där vi äter vår medhavda picknick. \nOm du inte anmält dig tidigare så gör det nu till hans.rainer@tele2.se \n
URL:http://automobilsallskapet.se/event/sommarutflykten-i-hans-rainers-hjulspar-andra-forsoket
END:VEVENT
END:VCALENDAR