BEGIN:VCALENDAR
VERSION:2.0
PRODID:-//Automobilsällskapet Nyköping - ECPv4.7.3//NONSGML v1.0//EN
CALSCALE:GREGORIAN
METHOD:PUBLISH
X-WR-CALNAME:Automobilsällskapet Nyköping
X-ORIGINAL-URL:http://automobilsallskapet.se
X-WR-CALDESC:Händelser för Automobilsällskapet Nyköping
BEGIN:VEVENT
DTSTART;TZID=Europe/Stockholm:20200718T140000
DTEND;TZID=Europe/Stockholm:20200718T150000
DTSTAMP:20260425T182351
CREATED:20200704T073750Z
LAST-MODIFIED:20200704T073854Z
UID:11169-1595080800-1595084400@automobilsallskapet.se
SUMMARY:Lördagsrundan
DESCRIPTION:Mellan 14 och 15 kan du välja bland våra rekommenderade rundor och visa upp pärlan\, möta andra pärlor – och om vädret tillåter träffa klubbkamrater ute vid klubbhuset på Skavsta. Medhavt fika och stolar rekommenderas\, samt behörig fysisk distansering.  Ingen anmälan! \n
URL:http://automobilsallskapet.se/event/lordagsrundan-6
END:VEVENT
END:VCALENDAR