BEGIN:VCALENDAR
VERSION:2.0
PRODID:-//Automobilsällskapet Nyköping - ECPv4.7.3//NONSGML v1.0//EN
CALSCALE:GREGORIAN
METHOD:PUBLISH
X-WR-CALNAME:Automobilsällskapet Nyköping
X-ORIGINAL-URL:http://automobilsallskapet.se
X-WR-CALDESC:Händelser för Automobilsällskapet Nyköping
BEGIN:VEVENT
DTSTART;TZID=Europe/Stockholm:20200715T173000
DTEND;TZID=Europe/Stockholm:20200715T210000
DTSTAMP:20260425T182431
CREATED:20200217T152117Z
LAST-MODIFIED:20200424T101040Z
UID:10990-1594834200-1594846800@automobilsallskapet.se
SUMMARY:Hamnkväll med Tema: Cabbar   INSTÄLLT
DESCRIPTION:Alla typer av fordon (även med tak) som är minst 30 år gamla och i fint skick är välkomna\, MEN alla cabbar tillåts från 10 år – kultbilar som t ex Mustang\, Corvette och Morgan tillåts oavsett årgång. \n
URL:http://automobilsallskapet.se/event/hamnkvall-med-tema-cabbar
END:VEVENT
END:VCALENDAR