BEGIN:VCALENDAR
VERSION:2.0
PRODID:-//Automobilsällskapet Nyköping - ECPv4.7.3//NONSGML v1.0//EN
CALSCALE:GREGORIAN
METHOD:PUBLISH
X-WR-CALNAME:Automobilsällskapet Nyköping
X-ORIGINAL-URL:http://automobilsallskapet.se
X-WR-CALDESC:Händelser för Automobilsällskapet Nyköping
BEGIN:VEVENT
DTSTART;TZID=Europe/Stockholm:20200620T140000
DTEND;TZID=Europe/Stockholm:20200620T150000
DTSTAMP:20260425T200313
CREATED:20200611T082211Z
LAST-MODIFIED:20200611T082211Z
UID:11135-1592661600-1592665200@automobilsallskapet.se
SUMMARY:Lördagsrundan
DESCRIPTION:Fri körning efter karta kl 14.00-15.00 \n \n
URL:http://automobilsallskapet.se/event/lordagsrundan-2
END:VEVENT
END:VCALENDAR