BEGIN:VCALENDAR
VERSION:2.0
PRODID:-//Automobilsällskapet Nyköping - ECPv4.7.3//NONSGML v1.0//EN
CALSCALE:GREGORIAN
METHOD:PUBLISH
X-WR-CALNAME:Automobilsällskapet Nyköping
X-ORIGINAL-URL:http://automobilsallskapet.se
X-WR-CALDESC:Händelser för Automobilsällskapet Nyköping
BEGIN:VEVENT
DTSTART;TZID=Europe/Stockholm:20200613T140000
DTEND;TZID=Europe/Stockholm:20200613T150000
DTSTAMP:20260425T200413
CREATED:20200611T081952Z
LAST-MODIFIED:20200611T083134Z
UID:11132-1592056800-1592060400@automobilsallskapet.se
SUMMARY:Lördagsrundan
DESCRIPTION:Ny aktivitet i Automobilsällskapet!  Man startar var som helst. när som helst och åt vilket håll som helst på de rundor ni ser på bifogade kartan. Alltid på lördagar mellan 14 och 15. Några få bilar kan åka tillsammans MEN ingen cruising! Efter körning kan man ju träffas och fika på lämplig plats med några kompisar  – MEN följ riktlinjerna om social distans! \n \n
URL:http://automobilsallskapet.se/event/lordagsrundan
END:VEVENT
END:VCALENDAR