BEGIN:VCALENDAR
VERSION:2.0
PRODID:-//Automobilsällskapet Nyköping - ECPv4.7.3//NONSGML v1.0//EN
CALSCALE:GREGORIAN
METHOD:PUBLISH
X-WR-CALNAME:Automobilsällskapet Nyköping
X-ORIGINAL-URL:http://automobilsallskapet.se
X-WR-CALDESC:Händelser för Automobilsällskapet Nyköping
BEGIN:VEVENT
DTSTART;TZID=Europe/Stockholm:20200301T120000
DTEND;TZID=Europe/Stockholm:20200301T160000
DTSTAMP:20260426T004856
CREATED:20200101T161037Z
LAST-MODIFIED:20200101T161037Z
UID:10914-1583064000-1583078400@automobilsallskapet.se
SUMMARY:Öppet Hus i Klubblokalen
DESCRIPTION:Kaffeservering kl 12.00 till 16.00   Värdar: Rojne o Elisabeth Pettersson \n
URL:http://automobilsallskapet.se/event/oppet-hus-i-klubblokalen-17
END:VEVENT
END:VCALENDAR