BEGIN:VCALENDAR
VERSION:2.0
PRODID:-//Automobilsällskapet Nyköping - ECPv4.7.3//NONSGML v1.0//EN
CALSCALE:GREGORIAN
METHOD:PUBLISH
X-WR-CALNAME:Automobilsällskapet Nyköping
X-ORIGINAL-URL:http://automobilsallskapet.se
X-WR-CALDESC:Händelser för Automobilsällskapet Nyköping
BEGIN:VEVENT
DTSTART;TZID=Europe/Stockholm:20200205T180000
DTEND;TZID=Europe/Stockholm:20200205T210000
DTSTAMP:20260425T102625
CREATED:20191229T114408Z
LAST-MODIFIED:20191229T114408Z
UID:10904-1580925600-1580936400@automobilsallskapet.se
SUMMARY:Automobilsällskapets Årsmöte i Klubblokalen
DESCRIPTION:Första gången vi har årsmötet på kvällstid – vi startar 18.00  Efter sedvanliga årsmötesförhandlingar delas renoveringspriset ut och fikaserveringen öppnar. \nDu som vill ha årsmöteshandlingar i förväg – hör av dig så skickar vi \n
URL:http://automobilsallskapet.se/event/automobilsallskapets-arsmote-i-klubblokalen
END:VEVENT
END:VCALENDAR