BEGIN:VCALENDAR
VERSION:2.0
PRODID:-//Automobilsällskapet Nyköping - ECPv4.7.3//NONSGML v1.0//EN
CALSCALE:GREGORIAN
METHOD:PUBLISH
X-WR-CALNAME:Automobilsällskapet Nyköping
X-ORIGINAL-URL:http://automobilsallskapet.se
X-WR-CALDESC:Händelser för Automobilsällskapet Nyköping
BEGIN:VEVENT
DTSTART;TZID=Europe/Stockholm:20210811T170000
DTEND;TZID=Europe/Stockholm:20210811T200000
DTSTAMP:20260420T154330
CREATED:20210731T153133Z
LAST-MODIFIED:20210809T071707Z
UID:11537-1628701200-1628712000@automobilsallskapet.se
SUMMARY:Veteranfordonsträff i Nyköpings Hamn
DESCRIPTION:Vi har insläpp från 17.00 – inget tema – alla fordon som är 30 år och i fint skick är välkomna. Tänk på att vi har begränsat utrymme genom att vi parkerar med stort avstånd p g a coronapandemin. \nVÄLKOMNA \n  \n
URL:http://automobilsallskapet.se/event/veteranfordonstraffar-i-nykopings-hamn
END:VEVENT
END:VCALENDAR