BEGIN:VCALENDAR
VERSION:2.0
PRODID:-//Automobilsällskapet Nyköping - ECPv4.7.3//NONSGML v1.0//EN
CALSCALE:GREGORIAN
METHOD:PUBLISH
X-WR-CALNAME:Automobilsällskapet Nyköping
X-ORIGINAL-URL:http://automobilsallskapet.se
X-WR-CALDESC:Händelser för Automobilsällskapet Nyköping
BEGIN:VEVENT
DTSTART;TZID=Europe/Stockholm:20190605T173000
DTEND;TZID=Europe/Stockholm:20190605T210000
DTSTAMP:20260426T035218
CREATED:20190111T151143Z
LAST-MODIFIED:20190111T151143Z
UID:10192-1559755800-1559768400@automobilsallskapet.se
SUMMARY:Veteranfordonsträff i Nyköpings Hamn
DESCRIPTION:Tema: Bil o Stil   Den här kvällen hoppas vi många bilar kommer att vara fyllda med förare och passagerare klädda i stil med bilen och årsmodellen. Under kvällen körs en parad med alla som vill vara med och visa upp sig och samtidigt tävla om fina priser (tre priser i form av s.k. bucklor kommer att delas ut efter juryns utslag). Paraden körs inför publik och två speakers intervjuar/ kommen-terar såväl bilen som kläderna. Den som vågar showa litet grand kan vinna många poäng! \nFör deltagande gäller att bilen skall vara minst 30 år gammal och detsamma gäller även dem som kommer till träffen utan att vilja tävla. De första 150 som kommer får fikabiljett och alla deltar i en utlottning av priser mot slutet av kvällen. \nBilder på några av förra årets deltagare: \n
URL:http://automobilsallskapet.se/event/veteranfordonstraff-i-nykopings-hamn-4
END:VEVENT
END:VCALENDAR