BEGIN:VCALENDAR
VERSION:2.0
PRODID:-//Automobilsällskapet Nyköping - ECPv4.7.3//NONSGML v1.0//EN
CALSCALE:GREGORIAN
METHOD:PUBLISH
X-WR-CALNAME:Automobilsällskapet Nyköping
X-ORIGINAL-URL:http://automobilsallskapet.se
X-WR-CALDESC:Händelser för Automobilsällskapet Nyköping
BEGIN:VEVENT
DTSTART;TZID=Europe/Stockholm:20210818T170000
DTEND;TZID=Europe/Stockholm:20210818T200000
DTSTAMP:20260420T191020
CREATED:20210805T203648Z
LAST-MODIFIED:20210805T203648Z
UID:11553-1629306000-1629316800@automobilsallskapet.se
SUMMARY:Veteranfordonsträff i Nyköpings Hamn
DESCRIPTION:Vi fortsätter att välkomna intressanta fordon till hamnen så länge de är minst 30 år gamla och i fint skick. Entrén öppnar 17.00 och vi håller på till 20.00 eller så länge som någon vill vara kvar. \n
URL:http://automobilsallskapet.se/event/veteranfordonstraff-i-nykopings-hamn-17
END:VEVENT
END:VCALENDAR