BEGIN:VCALENDAR
VERSION:2.0
PRODID:-//Automobilsällskapet Nyköping - ECPv4.7.3//NONSGML v1.0//EN
CALSCALE:GREGORIAN
METHOD:PUBLISH
X-WR-CALNAME:Automobilsällskapet Nyköping
X-ORIGINAL-URL:http://automobilsallskapet.se
X-WR-CALDESC:Händelser för Automobilsällskapet Nyköping
BEGIN:VEVENT
DTSTART;TZID=Europe/Stockholm:20240529T173000
DTEND;TZID=Europe/Stockholm:20240529T210000
DTSTAMP:20260425T155338
CREATED:20240410T074222Z
LAST-MODIFIED:20240410T074222Z
UID:13281-1717003800-1717016400@automobilsallskapet.se
SUMMARY:Veteranbilsträff i Nyköpings hamn
DESCRIPTION:TEMA: Besiktningsbefriade bilar\, dvs 50 år eller äldre. \nDessutom är alla bilar som är minst 30 år gamla och i fint skick välkomna \n
URL:http://automobilsallskapet.se/event/veteranbilstraff-i-nykopings-hamn-21
END:VEVENT
END:VCALENDAR