BEGIN:VCALENDAR
VERSION:2.0
PRODID:-//Automobilsällskapet Nyköping - ECPv4.7.3//NONSGML v1.0//EN
CALSCALE:GREGORIAN
METHOD:PUBLISH
X-WR-CALNAME:Automobilsällskapet Nyköping
X-ORIGINAL-URL:http://automobilsallskapet.se
X-WR-CALDESC:Händelser för Automobilsällskapet Nyköping
BEGIN:VEVENT
DTSTART;TZID=Europe/Stockholm:20240515T173000
DTEND;TZID=Europe/Stockholm:20240515T210000
DTSTAMP:20260425T205304
CREATED:20240409T161638Z
LAST-MODIFIED:20240410T073743Z
UID:13271-1715794200-1715806800@automobilsallskapet.se
SUMMARY:Veteranbilsträff i Nyköpings hamn
DESCRIPTION:Premiärkväll för årets 15 onsdagskvällar i hamnen. Alla bilar som är minst 30 år gamla och i fint skick är alltid välkomna\, men den här kvällen lägger vi litet extra krut på att visa upp Automobilsällskapets medlemmars fordon med såväl två\, tre som fyra hjul. Dessutom vill vi att medlemmar som håller på med ett renoveringsprojekt visar upp detta .och berättar om det. \n
URL:http://automobilsallskapet.se/event/veteranbilstraff-i-nykopings-hamn-16
END:VEVENT
END:VCALENDAR