BEGIN:VCALENDAR
VERSION:2.0
PRODID:-//Automobilsällskapet Nyköping - ECPv4.7.3//NONSGML v1.0//EN
CALSCALE:GREGORIAN
METHOD:PUBLISH
X-WR-CALNAME:Automobilsällskapet Nyköping
X-ORIGINAL-URL:http://automobilsallskapet.se
X-WR-CALDESC:Händelser för Automobilsällskapet Nyköping
BEGIN:VEVENT
DTSTART;TZID=Europe/Stockholm:20250702T173000
DTEND;TZID=Europe/Stockholm:20250702T210000
DTSTAMP:20260420T013018
CREATED:20250306T085125Z
LAST-MODIFIED:20250306T085126Z
UID:13897-1751477400-1751490000@automobilsallskapet.se
SUMMARY:Veteranbilsträff
DESCRIPTION:Tema: USA-bilar \n
URL:http://automobilsallskapet.se/event/veteranbilstraff-8
END:VEVENT
END:VCALENDAR