BEGIN:VCALENDAR
VERSION:2.0
PRODID:-//Automobilsällskapet Nyköping - ECPv4.7.3//NONSGML v1.0//EN
CALSCALE:GREGORIAN
METHOD:PUBLISH
X-WR-CALNAME:Automobilsällskapet Nyköping
X-ORIGINAL-URL:http://automobilsallskapet.se
X-WR-CALDESC:Händelser för Automobilsällskapet Nyköping
BEGIN:VEVENT
DTSTART;TZID=Europe/Stockholm:20250618T173000
DTEND;TZID=Europe/Stockholm:20250618T210000
DTSTAMP:20260419T165234
CREATED:20250306T083534Z
LAST-MODIFIED:20250306T083534Z
UID:13893-1750267800-1750280400@automobilsallskapet.se
SUMMARY:Veteranbilsträff
DESCRIPTION:Tema: Cabbar \n
URL:http://automobilsallskapet.se/event/veteranbilstraff-6
END:VEVENT
END:VCALENDAR