BEGIN:VCALENDAR
VERSION:2.0
PRODID:-//Automobilsällskapet Nyköping - ECPv4.7.3//NONSGML v1.0//EN
CALSCALE:GREGORIAN
METHOD:PUBLISH
X-WR-CALNAME:Automobilsällskapet Nyköping
X-ORIGINAL-URL:http://automobilsallskapet.se
X-WR-CALDESC:Händelser för Automobilsällskapet Nyköping
BEGIN:VEVENT
DTSTART;TZID=Europe/Stockholm:20240512T120000
DTEND;TZID=Europe/Stockholm:20240512T153000
DTSTAMP:20260425T223032
CREATED:20240507T160634Z
LAST-MODIFIED:20240507T160850Z
UID:13313-1715515200-1715527800@automobilsallskapet.se
SUMMARY:VÅRFESTEN söndagen den 12 maj kl 12 till 15
DESCRIPTION:Nu är det dags för vår årliga\, lekfulla VÅRFEST och i år med fler aktiviteter än någonsin tidigare. Vi kommer att ha både gungor och karuseller – NEJ så barnsligt är det faktiskt inte\, men det finns mycket att göra. \n12.00  Välkomsthälsning och  genomgång av dagens lekar (UN) \n12.00   ”Hattpåtagning”  Hattfrossan pågår hela dagen – vackra\, gamla\, färgglada\, häftiga\,\, fantasifulla hattar och en kommitté väljer ut ”en alldeles särdeles hatt” \n12.00-14.00  Tipspromenad à la Leif o Helena \n12.10  ConKÖRdeCharme sjunger ett antal ”hjulsånger” \n12.25   Danne deLuxe spelar stenkakor på sin stenkakemaskin \n12.30  MatMattes Viltburgeri öppnar  Alla medlemmar bjuds på viltburgare med tillbehör och dryck \n13.00   Musik-Quiz med Richard Sjölin \n13.45  Kören del 2 \n13.00-14.00  ”Önsketuren”  Få en åktur i en bil som du alltid har drömt om att få åka i. Vi hoppas att många vill ställa upp och erbjuda en kamrat eller två en kortare åktur på flygplatsområdet. \n13.30-15.30  Fika med hembakt ”från vanligtvis välbakat håll” finns att köpa inne på klubben \n14.45 Prisutdelningar  i Tipspromenaden\,  Häftigaste Hatt\,  Bokstavsflätan och Musik-quizet \n15.00  Kören del 3   Några smäktande vårsånger avslutar dagen \n
URL:http://automobilsallskapet.se/event/varfesten-4
END:VEVENT
END:VCALENDAR