BEGIN:VCALENDAR
VERSION:2.0
PRODID:-//Automobilsällskapet Nyköping - ECPv4.7.3//NONSGML v1.0//EN
CALSCALE:GREGORIAN
METHOD:PUBLISH
X-WR-CALNAME:Automobilsällskapet Nyköping
X-ORIGINAL-URL:http://automobilsallskapet.se
X-WR-CALDESC:Händelser för Automobilsällskapet Nyköping
BEGIN:VEVENT
DTSTART;TZID=Europe/Stockholm:20211006T173000
DTEND;TZID=Europe/Stockholm:20211006T200000
DTSTAMP:20260421T085718
CREATED:20211002T155359Z
LAST-MODIFIED:20211002T155359Z
UID:11661-1633541400-1633550400@automobilsallskapet.se
SUMMARY:Teknikkväll
DESCRIPTION:Tekniska kommittén kommer att ha ett intressant program med inriktning på teknik. \nKlubbvärdar: Rojne o Elisabeth Pettersson \n
URL:http://automobilsallskapet.se/event/teknikkvall
END:VEVENT
END:VCALENDAR