BEGIN:VCALENDAR
VERSION:2.0
PRODID:-//Automobilsällskapet Nyköping - ECPv4.7.3//NONSGML v1.0//EN
CALSCALE:GREGORIAN
METHOD:PUBLISH
X-WR-CALNAME:Automobilsällskapet Nyköping
X-ORIGINAL-URL:http://automobilsallskapet.se
X-WR-CALDESC:Händelser för Automobilsällskapet Nyköping
BEGIN:VEVENT
DTSTART;TZID=Europe/Stockholm:20220327T120000
DTEND;TZID=Europe/Stockholm:20220327T160000
DTSTAMP:20260425T202621
CREATED:20220210T204352Z
LAST-MODIFIED:20220210T204352Z
UID:11787-1648382400-1648396800@automobilsallskapet.se
SUMMARY:Söndagsöppet   Sommartiden börjar
DESCRIPTION:Öppet: 12.00 – 16.00 \nVärdar: Bengt o Helena Nilsson \n
URL:http://automobilsallskapet.se/event/sondagsoppet-sommartiden-borjar
END:VEVENT
END:VCALENDAR