BEGIN:VCALENDAR
VERSION:2.0
PRODID:-//Automobilsällskapet Nyköping - ECPv4.7.3//NONSGML v1.0//EN
CALSCALE:GREGORIAN
METHOD:PUBLISH
X-WR-CALNAME:Automobilsällskapet Nyköping
X-ORIGINAL-URL:http://automobilsallskapet.se
X-WR-CALDESC:Händelser för Automobilsällskapet Nyköping
BEGIN:VEVENT
DTSTART;TZID=Europe/Stockholm:20250623T080000
DTEND;TZID=Europe/Stockholm:20250623T170000
DTSTAMP:20260419T183648
CREATED:20250623T092240Z
LAST-MODIFIED:20250623T092240Z
UID:14049-1750665600-1750698000@automobilsallskapet.se
SUMMARY:Söndagsöppet på ASN 29 juni
DESCRIPTION:29 juni har vi öppet i klubbhuset och trädgården. Ta med eget fika. Vi har tre olika aktiviteter: krocket\, kubb och boule. Ta med era finbilar. Vi håller på t o m 17 augusti. \n
URL:http://automobilsallskapet.se/event/sondagsoppet-pa-asn-29-juni
END:VEVENT
END:VCALENDAR