BEGIN:VCALENDAR
VERSION:2.0
PRODID:-//Automobilsällskapet Nyköping - ECPv4.7.3//NONSGML v1.0//EN
CALSCALE:GREGORIAN
METHOD:PUBLISH
X-WR-CALNAME:Automobilsällskapet Nyköping
X-ORIGINAL-URL:http://automobilsallskapet.se
X-WR-CALDESC:Händelser för Automobilsällskapet Nyköping
BEGIN:VEVENT
DTSTART;TZID=Europe/Stockholm:20220116T120000
DTEND;TZID=Europe/Stockholm:20220116T160000
DTSTAMP:20260422T134751
CREATED:20220104T130947Z
LAST-MODIFIED:20220104T130948Z
UID:11729-1642334400-1642348800@automobilsallskapet.se
SUMMARY:Söndagsöppet
DESCRIPTION:Öppet 12.00 -16.00 \nVärdar: Leif och Helena Thor \n
URL:http://automobilsallskapet.se/event/sondagsoppet-8
END:VEVENT
END:VCALENDAR