BEGIN:VCALENDAR
VERSION:2.0
PRODID:-//Automobilsällskapet Nyköping - ECPv4.7.3//NONSGML v1.0//EN
CALSCALE:GREGORIAN
METHOD:PUBLISH
X-WR-CALNAME:Automobilsällskapet Nyköping
X-ORIGINAL-URL:http://automobilsallskapet.se
X-WR-CALDESC:Händelser för Automobilsällskapet Nyköping
BEGIN:VEVENT
DTSTART;TZID=Europe/Stockholm:20211107T120000
DTEND;TZID=Europe/Stockholm:20211107T160000
DTSTAMP:20260421T233924
CREATED:20211002T183548Z
LAST-MODIFIED:20211002T184037Z
UID:11676-1636286400-1636300800@automobilsallskapet.se
SUMMARY:Söndagsöppet
DESCRIPTION:Fika\, gemenskap och svindlande historier \nKlubbvärdar:  Rojne o Elisabeth Pettersson \n
URL:http://automobilsallskapet.se/event/sondagsoppet-5
END:VEVENT
END:VCALENDAR