BEGIN:VCALENDAR
VERSION:2.0
PRODID:-//Automobilsällskapet Nyköping - ECPv4.7.3//NONSGML v1.0//EN
CALSCALE:GREGORIAN
METHOD:PUBLISH
X-WR-CALNAME:Automobilsällskapet Nyköping
X-ORIGINAL-URL:http://automobilsallskapet.se
X-WR-CALDESC:Händelser för Automobilsällskapet Nyköping
BEGIN:VEVENT
DTSTART;TZID=Europe/Stockholm:20211024T120000
DTEND;TZID=Europe/Stockholm:20211024T160000
DTSTAMP:20260421T183928
CREATED:20211002T160218Z
LAST-MODIFIED:20211002T160537Z
UID:11669-1635076800-1635091200@automobilsallskapet.se
SUMMARY:Söndagsöppet
DESCRIPTION:Fika\, gemenskap och hisnande historier \nKlubbvärdar: Leif o Helena Thor \n
URL:http://automobilsallskapet.se/event/sondagsoppet-3
END:VEVENT
END:VCALENDAR