BEGIN:VCALENDAR
VERSION:2.0
PRODID:-//Automobilsällskapet Nyköping - ECPv4.7.3//NONSGML v1.0//EN
CALSCALE:GREGORIAN
METHOD:PUBLISH
X-WR-CALNAME:Automobilsällskapet Nyköping
X-ORIGINAL-URL:http://automobilsallskapet.se
X-WR-CALDESC:Händelser för Automobilsällskapet Nyköping
BEGIN:VEVENT
DTSTART;TZID=Europe/Stockholm:20211128T120000
DTEND;TZID=Europe/Stockholm:20211128T160000
DTSTAMP:20260422T044045
CREATED:20211002T184834Z
LAST-MODIFIED:20211002T184834Z
UID:11685-1638100800-1638115200@automobilsallskapet.se
SUMMARY:Söndagsöppet - 1:a Advent
DESCRIPTION:Adventsfika\, gemenskap och hisnande historier. Dessutom julsmyckad klubblokal. \nKlubbvärdar:  Urban o Sonja Nyblom \n
URL:http://automobilsallskapet.se/event/sondagsoppet-1a-advent
END:VEVENT
END:VCALENDAR