BEGIN:VCALENDAR
VERSION:2.0
PRODID:-//Automobilsällskapet Nyköping - ECPv4.7.3//NONSGML v1.0//EN
CALSCALE:GREGORIAN
METHOD:PUBLISH
X-WR-CALNAME:Automobilsällskapet Nyköping
X-ORIGINAL-URL:http://automobilsallskapet.se
X-WR-CALDESC:Händelser för Automobilsällskapet Nyköping
BEGIN:VEVENT
DTSTART;TZID=Europe/Stockholm:20220403T120000
DTEND;TZID=Europe/Stockholm:20220403T160000
DTSTAMP:20260425T184931
CREATED:20220221T164729Z
LAST-MODIFIED:20220221T164729Z
UID:11801-1648987200-1649001600@automobilsallskapet.se
SUMMARY:Söndagsöppet 12.00-16.00
DESCRIPTION:Värdar: Gunnar o Gunn-Britt \n
URL:http://automobilsallskapet.se/event/sondagsoppet-12-00-16-00-3
END:VEVENT
END:VCALENDAR