BEGIN:VCALENDAR
VERSION:2.0
PRODID:-//Automobilsällskapet Nyköping - ECPv4.7.3//NONSGML v1.0//EN
CALSCALE:GREGORIAN
METHOD:PUBLISH
X-WR-CALNAME:Automobilsällskapet Nyköping
X-ORIGINAL-URL:http://automobilsallskapet.se
X-WR-CALDESC:Händelser för Automobilsällskapet Nyköping
BEGIN:VEVENT
DTSTART;TZID=Europe/Stockholm:20250720T140000
DTEND;TZID=Europe/Stockholm:20250720T160000
DTSTAMP:20260420T135315
CREATED:20250718T135457Z
LAST-MODIFIED:20250718T135457Z
UID:14098-1753020000-1753027200@automobilsallskapet.se
SUMMARY:SOMMARÖPPET
DESCRIPTION:Välkomna till öppet hus i klubbhuset och trädgården 20 juli kl 14-16. Ta med eget fika. Spela kubb\, krocket eller boule om ni vill. \n
URL:http://automobilsallskapet.se/event/sommaroppet
END:VEVENT
END:VCALENDAR