BEGIN:VCALENDAR
VERSION:2.0
PRODID:-//Automobilsällskapet Nyköping - ECPv4.7.3//NONSGML v1.0//EN
CALSCALE:GREGORIAN
METHOD:PUBLISH
X-WR-CALNAME:Automobilsällskapet Nyköping
X-ORIGINAL-URL:http://automobilsallskapet.se
X-WR-CALDESC:Händelser för Automobilsällskapet Nyköping
BEGIN:VEVENT
DTSTART;TZID=Europe/Stockholm:20201007T180000
DTEND;TZID=Europe/Stockholm:20201007T200000
DTSTAMP:20260422T123624
CREATED:20200920T074319Z
LAST-MODIFIED:20200920T074319Z
UID:11273-1602093600-1602100800@automobilsallskapet.se
SUMMARY:Skymningsrundan
DESCRIPTION:På grund av coronapandemin kommer årets Skymningsrunda att se mycket annorlunda ut än normalt.  Det blir ingen samling inomhus\, ingen korvgubbe och inget fika. Allt kommer att ske utomhus på baksidan av klubbhuset. \nFörsta start kl 18.00 \nVid målgång lämnas svarskorten in. Det blir ingen genomgång eller prisutdelning då utan detta kommer att ske digitalt utan publik och visas på vår Youtubesida längre fram. Resultatlistan publiceras på hemsidan så snart rättningen är klar. \nRundan administreras av förra årets vinnare Tommy Duvefelt med assistans av Per Sjölund. \nAnmälan till rundan vill vi ha senast den 4 oktober \n
URL:http://automobilsallskapet.se/event/skymningsrundan-2
END:VEVENT
END:VCALENDAR