BEGIN:VCALENDAR
VERSION:2.0
PRODID:-//Automobilsällskapet Nyköping - ECPv4.7.3//NONSGML v1.0//EN
CALSCALE:GREGORIAN
METHOD:PUBLISH
X-WR-CALNAME:Automobilsällskapet Nyköping
X-ORIGINAL-URL:http://automobilsallskapet.se
X-WR-CALDESC:Händelser för Automobilsällskapet Nyköping
BEGIN:VEVENT
DTSTART;TZID=Europe/Stockholm:20200412T120000
DTEND;TZID=Europe/Stockholm:20200412T160000
DTSTAMP:20260425T231749
CREATED:20200101T164037Z
LAST-MODIFIED:20200217T163946Z
UID:10934-1586692800-1586707200@automobilsallskapet.se
SUMMARY:Öppet Hus med Påskfika  INSTÄLLT
DESCRIPTION:Påskdagen firar vi i hemmets eller garagets lugna vrå \nKlubblokalen är stängd! \n
URL:http://automobilsallskapet.se/event/oppet-hus-med-paskfika-i-klubbloklen
END:VEVENT
END:VCALENDAR