BEGIN:VCALENDAR
VERSION:2.0
PRODID:-//Automobilsällskapet Nyköping - ECPv4.7.3//NONSGML v1.0//EN
CALSCALE:GREGORIAN
METHOD:PUBLISH
X-WR-CALNAME:Automobilsällskapet Nyköping
X-ORIGINAL-URL:http://automobilsallskapet.se
X-WR-CALDESC:Händelser för Automobilsällskapet Nyköping
BEGIN:VEVENT
DTSTART;TZID=Europe/Stockholm:20200105T120000
DTEND;TZID=Europe/Stockholm:20200105T160000
DTSTAMP:20260426T002215
CREATED:20191227T105220Z
LAST-MODIFIED:20191229T113845Z
UID:10887-1578225600-1578240000@automobilsallskapet.se
SUMMARY:Öppet Hus i Klubblokalen på Trettondagsafton
DESCRIPTION:Du/Ni som inte har något speciellt för er på ”Trettondagsaftonsdagen” är välkomna att inleda det nya årtiondet med en stilla fika\, en go macka eller bara en snackis mellan 12 och 16.   Värdar: Urban o Sonja \n
URL:http://automobilsallskapet.se/event/oppet-hus-i-klubblokalen-pa-trettondagsafton
END:VEVENT
END:VCALENDAR