BEGIN:VCALENDAR
VERSION:2.0
PRODID:-//Automobilsällskapet Nyköping - ECPv4.7.3//NONSGML v1.0//EN
CALSCALE:GREGORIAN
METHOD:PUBLISH
X-WR-CALNAME:Automobilsällskapet Nyköping
X-ORIGINAL-URL:http://automobilsallskapet.se
X-WR-CALDESC:Händelser för Automobilsällskapet Nyköping
BEGIN:VEVENT
DTSTART;TZID=Europe/Stockholm:20200322T120000
DTEND;TZID=Europe/Stockholm:20200322T160000
DTSTAMP:20260426T005416
CREATED:20200101T162941Z
LAST-MODIFIED:20200314T161151Z
UID:10926-1584878400-1584892800@automobilsallskapet.se
SUMMARY:Öppet Hus i Klubblokalen  INSTÄLLT
DESCRIPTION:
URL:http://automobilsallskapet.se/event/oppet-hus-i-klubblokalen-20
END:VEVENT
END:VCALENDAR