BEGIN:VCALENDAR
VERSION:2.0
PRODID:-//Automobilsällskapet Nyköping - ECPv4.7.3//NONSGML v1.0//EN
CALSCALE:GREGORIAN
METHOD:PUBLISH
X-WR-CALNAME:Automobilsällskapet Nyköping
X-ORIGINAL-URL:http://automobilsallskapet.se
X-WR-CALDESC:Händelser för Automobilsällskapet Nyköping
BEGIN:VEVENT
DTSTART;TZID=Europe/Stockholm:20200223T120000
DTEND;TZID=Europe/Stockholm:20200223T160000
DTSTAMP:20260425T202759
CREATED:20200101T160832Z
LAST-MODIFIED:20200101T161120Z
UID:10912-1582459200-1582473600@automobilsallskapet.se
SUMMARY:Öppet Hus i Klubblokalen
DESCRIPTION:Kaffeservering kl 12.00 till 16.00  Värdar: Rojne o Elisabeth Pettersson \n
URL:http://automobilsallskapet.se/event/oppet-hus-i-klubblokalen-16
END:VEVENT
END:VCALENDAR