BEGIN:VCALENDAR
VERSION:2.0
PRODID:-//Automobilsällskapet Nyköping - ECPv4.7.3//NONSGML v1.0//EN
CALSCALE:GREGORIAN
METHOD:PUBLISH
X-WR-CALNAME:Automobilsällskapet Nyköping
X-ORIGINAL-URL:http://automobilsallskapet.se
X-WR-CALDESC:Händelser för Automobilsällskapet Nyköping
BEGIN:VEVENT
DTSTART;TZID=Europe/Stockholm:20200216T120000
DTEND;TZID=Europe/Stockholm:20200216T160000
DTSTAMP:20260425T155436
CREATED:20191229T114738Z
LAST-MODIFIED:20191229T114739Z
UID:10908-1581854400-1581868800@automobilsallskapet.se
SUMMARY:Öppet Hus i Klubblokalen
DESCRIPTION:Kaffeservering från 12.00 till 16.00   Värdar: Bengt o Helena Nilsson \n
URL:http://automobilsallskapet.se/event/oppet-hus-i-klubblokalen-15
END:VEVENT
END:VCALENDAR