BEGIN:VCALENDAR
VERSION:2.0
PRODID:-//Automobilsällskapet Nyköping - ECPv4.7.3//NONSGML v1.0//EN
CALSCALE:GREGORIAN
METHOD:PUBLISH
X-WR-CALNAME:Automobilsällskapet Nyköping
X-ORIGINAL-URL:http://automobilsallskapet.se
X-WR-CALDESC:Händelser för Automobilsällskapet Nyköping
BEGIN:VEVENT
DTSTART;TZID=Europe/Stockholm:20200112T110000
DTEND;TZID=Europe/Stockholm:20200112T160000
DTSTAMP:20260425T223335
CREATED:20191229T110848Z
LAST-MODIFIED:20191229T113912Z
UID:10890-1578826800-1578844800@automobilsallskapet.se
SUMMARY:Öppet Hus i Klubblokalen
DESCRIPTION:Välkomna till en helt ”avjulad” lokal\, men med många nya tidningar\, gott kaffe och bröd!  Öppet 12.00-16.00   Värdar: Gunnar o Gunn-Britt Eriksson \n
URL:http://automobilsallskapet.se/event/oppet-hus-i-klubblokalen-10
END:VEVENT
END:VCALENDAR