BEGIN:VCALENDAR
VERSION:2.0
PRODID:-//Automobilsällskapet Nyköping - ECPv4.7.3//NONSGML v1.0//EN
CALSCALE:GREGORIAN
METHOD:PUBLISH
X-WR-CALNAME:Automobilsällskapet Nyköping
X-ORIGINAL-URL:http://automobilsallskapet.se
X-WR-CALDESC:Händelser för Automobilsällskapet Nyköping
BEGIN:VEVENT
DTSTART;TZID=Europe/Stockholm:20220109T120000
DTEND;TZID=Europe/Stockholm:20220109T160000
DTSTAMP:20260422T114924
CREATED:20220104T130354Z
LAST-MODIFIED:20220104T130354Z
UID:11726-1641729600-1641744000@automobilsallskapet.se
SUMMARY:Öppet Hus
DESCRIPTION:Första söndagsöppet på nya säsongen. Besök av Chris Wilson som presenterar en bil till salu som finns i Holland. Bilen är en Plymouth Six från 1937\, byggd i Nyköping och i ett mycket fint skick. Mr Wilson representerar en samlare i Holland som spekulerar i att bilen kan var intressant just för oss i klubben genom att den är byggd i Nyköping på ANA. \nÖppet 12.00 till 16.00 \nKlubbvärdar: Urban och Sonja \n
URL:http://automobilsallskapet.se/event/oppet-hus-17
END:VEVENT
END:VCALENDAR