BEGIN:VCALENDAR
VERSION:2.0
PRODID:-//Automobilsällskapet Nyköping - ECPv4.7.3//NONSGML v1.0//EN
CALSCALE:GREGORIAN
METHOD:PUBLISH
X-WR-CALNAME:Automobilsällskapet Nyköping
X-ORIGINAL-URL:http://automobilsallskapet.se
X-WR-CALDESC:Händelser för Automobilsällskapet Nyköping
BEGIN:VEVENT
DTSTART;TZID=Europe/Stockholm:20240303T130000
DTEND;TZID=Europe/Stockholm:20240303T160000
DTSTAMP:20260420T172529
CREATED:20231227T160308Z
LAST-MODIFIED:20231227T160308Z
UID:13182-1709470800-1709481600@automobilsallskapet.se
SUMMARY:Öppet Hus  13-16
DESCRIPTION:Fika och trivsel \nVärdar:  Per och Åsa Sjölund \n
URL:http://automobilsallskapet.se/event/oppet-hus-13-16-8
END:VEVENT
END:VCALENDAR