BEGIN:VCALENDAR
VERSION:2.0
PRODID:-//Automobilsällskapet Nyköping - ECPv4.7.3//NONSGML v1.0//EN
CALSCALE:GREGORIAN
METHOD:PUBLISH
X-WR-CALNAME:Automobilsällskapet Nyköping
X-ORIGINAL-URL:http://automobilsallskapet.se
X-WR-CALDESC:Händelser för Automobilsällskapet Nyköping
BEGIN:VEVENT
DTSTART;TZID=Europe/Stockholm:20240218T130000
DTEND;TZID=Europe/Stockholm:20240218T160000
DTSTAMP:20260420T172539
CREATED:20231227T143325Z
LAST-MODIFIED:20231227T143325Z
UID:13176-1708261200-1708272000@automobilsallskapet.se
SUMMARY:Öppet Hus   13-16
DESCRIPTION:Fika och trivsel                                                                                                                    Bildvisning från klubbens 50-årsfest på Hotell Sunlight 2018 \nVärdpar: Björn Lindeberg och Karin Olsson                                                                      Bildvisare: Urban Nyblom \n
URL:http://automobilsallskapet.se/event/oppet-hus-13-16-6
END:VEVENT
END:VCALENDAR