BEGIN:VCALENDAR
VERSION:2.0
PRODID:-//Automobilsällskapet Nyköping - ECPv4.7.3//NONSGML v1.0//EN
CALSCALE:GREGORIAN
METHOD:PUBLISH
X-WR-CALNAME:Automobilsällskapet Nyköping
X-ORIGINAL-URL:http://automobilsallskapet.se
X-WR-CALDESC:Händelser för Automobilsällskapet Nyköping
BEGIN:VEVENT
DTSTART;TZID=Europe/Stockholm:20220202T173000
DTEND;TZID=Europe/Stockholm:20220202T210000
DTSTAMP:20260422T201304
CREATED:20220104T132706Z
LAST-MODIFIED:20220120T085453Z
UID:11733-1643823000-1643835600@automobilsallskapet.se
SUMMARY:Mörkerrundan
DESCRIPTION:Detta är nog ett av de äventyrligaste arrangemangen vi gör under en säsong. Men det är ju tydligt att deltagarna gillar utmaningarna på snö- och istäckta vägar och med temperaturer som kan frysa sönder vilken kylare som helst. Förra året ställde vi in rundan p g a coronan\, men i år kommer vi igen med en svårare än någonsin! Ingen tävling för veklingar!  OCH ingen tävling om man inte är fullvaccinerad och symptomfri! \nStart sker från klubblokalen när som helst mellan 17.30 och 18.30. \nI lokalen kommer det att finnas gofika\, men för att minimera smittriskerna har vi tagit bort korvgubben. \nKlubbvärdar: Urban o Sonja \nRallyrävar: Janne och Gunilla Malmqvist  Anmälan till Gunilla 070-619 21 42 \n
URL:http://automobilsallskapet.se/event/morkerrundan-3
END:VEVENT
END:VCALENDAR