BEGIN:VCALENDAR
VERSION:2.0
PRODID:-//Automobilsällskapet Nyköping - ECPv4.7.3//NONSGML v1.0//EN
CALSCALE:GREGORIAN
METHOD:PUBLISH
X-WR-CALNAME:Automobilsällskapet Nyköping
X-ORIGINAL-URL:http://automobilsallskapet.se
X-WR-CALDESC:Händelser för Automobilsällskapet Nyköping
BEGIN:VEVENT
DTSTART;TZID=Europe/Stockholm:20200219T170000
DTEND;TZID=Europe/Stockholm:20200219T210000
DTSTAMP:20260425T170842
CREATED:20191229T115653Z
LAST-MODIFIED:20191229T115653Z
UID:10910-1582131600-1582146000@automobilsallskapet.se
SUMMARY:Mörkerrundan
DESCRIPTION:Första start från Klubblokalen 17.30 för dem som inte vill ha mörker hela rundan. Janne o Gunilla har som vanligt gjort en utslagsgivande och rolig runda – och i år skall den gå i djup snö och djupt mörker!!! \nAnmälan till Gunilla Malmqvist 070-6192142 eller gunilla.malmqvist@telia.com senast söndagen den 16e februari. \nEfter målgång finns varmkorv och fika att köpa i klubblokalen \nKaffevärdar: Urban o Sonja samt Ingvar o Eva-Marie \n
URL:http://automobilsallskapet.se/event/morkerrundan-2
END:VEVENT
END:VCALENDAR