BEGIN:VCALENDAR
VERSION:2.0
PRODID:-//Automobilsällskapet Nyköping - ECPv4.7.3//NONSGML v1.0//EN
CALSCALE:GREGORIAN
METHOD:PUBLISH
X-WR-CALNAME:Automobilsällskapet Nyköping
X-ORIGINAL-URL:http://automobilsallskapet.se
X-WR-CALDESC:Händelser för Automobilsällskapet Nyköping
BEGIN:VEVENT
DTSTART;TZID=Europe/Stockholm:20201213T120000
DTEND;TZID=Europe/Stockholm:20201213T160000
DTSTAMP:20260421T195508
CREATED:20200920T081822Z
LAST-MODIFIED:20200920T081822Z
UID:11297-1607860800-1607875200@automobilsallskapet.se
SUMMARY:Medlemsöppet i klubblokalen\,  Luciadagen
DESCRIPTION:Klubblokalen är öppen 12 till 16. Luciaanpassat fika 20 kr\, färska tidningar och trevliga klubbkamrater att snacka med. Kommer Lucia? \n
URL:http://automobilsallskapet.se/event/medlemsoppet-i-klubblokalen-luciadagen
END:VEVENT
END:VCALENDAR