BEGIN:VCALENDAR
VERSION:2.0
PRODID:-//Automobilsällskapet Nyköping - ECPv4.7.3//NONSGML v1.0//EN
CALSCALE:GREGORIAN
METHOD:PUBLISH
X-WR-CALNAME:Automobilsällskapet Nyköping
X-ORIGINAL-URL:http://automobilsallskapet.se
X-WR-CALDESC:Händelser för Automobilsällskapet Nyköping
BEGIN:VEVENT
DTSTART;TZID=Europe/Stockholm:20201101T120000
DTEND;TZID=Europe/Stockholm:20201101T160000
DTSTAMP:20260423T013733
CREATED:20200920T080227Z
LAST-MODIFIED:20200920T080227Z
UID:11285-1604232000-1604246400@automobilsallskapet.se
SUMMARY:Medlemsöppet i klubblokalen
DESCRIPTION:Klubblokalen är öppen 12 till 16  Fika med kaffebröd 20 kr\, färska tidningar\, trevliga kamrater att prata med \nVärdar: Per o Åsa Sjölund \n
URL:http://automobilsallskapet.se/event/medlemsoppet-i-klubblokalen-8
END:VEVENT
END:VCALENDAR