BEGIN:VCALENDAR
VERSION:2.0
PRODID:-//Automobilsällskapet Nyköping - ECPv4.7.3//NONSGML v1.0//EN
CALSCALE:GREGORIAN
METHOD:PUBLISH
X-WR-CALNAME:Automobilsällskapet Nyköping
X-ORIGINAL-URL:http://automobilsallskapet.se
X-WR-CALDESC:Händelser för Automobilsällskapet Nyköping
BEGIN:VEVENT
DTSTART;TZID=Europe/Stockholm:20201004T120000
DTEND;TZID=Europe/Stockholm:20201004T160000
DTSTAMP:20260422T141510
CREATED:20200920T072623Z
LAST-MODIFIED:20200920T072623Z
UID:11268-1601812800-1601827200@automobilsallskapet.se
SUMMARY:Medlemsöppet i klubblokalen
DESCRIPTION:Klubblokalen är öppen 12 till 16. Fika finns att köpa för 20 kr\, färska tidningar\, trevliga kamrater att prata med. \nPer och Åsa Sjölund är värdar \n
URL:http://automobilsallskapet.se/event/medlemsoppet-i-klubblokalen-3
END:VEVENT
END:VCALENDAR