BEGIN:VCALENDAR
VERSION:2.0
PRODID:-//Automobilsällskapet Nyköping - ECPv4.7.3//NONSGML v1.0//EN
CALSCALE:GREGORIAN
METHOD:PUBLISH
X-WR-CALNAME:Automobilsällskapet Nyköping
X-ORIGINAL-URL:http://automobilsallskapet.se
X-WR-CALDESC:Händelser för Automobilsällskapet Nyköping
BEGIN:VEVENT
DTSTART;TZID=Europe/Stockholm:20200927T120000
DTEND;TZID=Europe/Stockholm:20200927T160000
DTSTAMP:20260422T192342
CREATED:20200920T071906Z
LAST-MODIFIED:20200920T071906Z
UID:11264-1601208000-1601222400@automobilsallskapet.se
SUMMARY:Medlemsöppet i klubblokalen
DESCRIPTION:Klubblokalen är öppen 12 – 16. Fika finns för 20 kr\, färska tidningar och nyinkomna böcker\, trevliga kamrater att prata med. \nHelena och Bengt Nilsson är värdar \n
URL:http://automobilsallskapet.se/event/medlemsoppet-i-klubblokalen-2
END:VEVENT
END:VCALENDAR