BEGIN:VCALENDAR
VERSION:2.0
PRODID:-//Automobilsällskapet Nyköping - ECPv4.7.3//NONSGML v1.0//EN
CALSCALE:GREGORIAN
METHOD:PUBLISH
X-WR-CALNAME:Automobilsällskapet Nyköping
X-ORIGINAL-URL:http://automobilsallskapet.se
X-WR-CALDESC:Händelser för Automobilsällskapet Nyköping
BEGIN:VEVENT
DTSTART;TZID=Europe/Stockholm:20201129T120000
DTEND;TZID=Europe/Stockholm:20201129T160000
DTSTAMP:20260421T230343
CREATED:20200920T081358Z
LAST-MODIFIED:20201104T103615Z
UID:11293-1606651200-1606665600@automobilsallskapet.se
SUMMARY:Medlemsöppet i klubblokalen   INSTÄLLT
DESCRIPTION:INSTÄLLT pga Covid-19 \n
URL:http://automobilsallskapet.se/event/medlemsoppet-i-klubblokalen-1a-advent
END:VEVENT
END:VCALENDAR