BEGIN:VCALENDAR
VERSION:2.0
PRODID:-//Automobilsällskapet Nyköping - ECPv4.7.3//NONSGML v1.0//EN
CALSCALE:GREGORIAN
METHOD:PUBLISH
X-WR-CALNAME:Automobilsällskapet Nyköping
X-ORIGINAL-URL:http://automobilsallskapet.se
X-WR-CALDESC:Händelser för Automobilsällskapet Nyköping
BEGIN:VEVENT
DTSTART;TZID=Europe/Stockholm:20201206T120000
DTEND;TZID=Europe/Stockholm:20201206T160000
DTSTAMP:20260421T212632
CREATED:20200920T081557Z
LAST-MODIFIED:20200920T081557Z
UID:11295-1607256000-1607270400@automobilsallskapet.se
SUMMARY:Medlemsöppet i klubblokalen
DESCRIPTION:Klubblokalen är öppen 12 till 16. Fika med kaffebröd 20 kr\, färska tidningar\, trevligt umgänge med andra klubbmedlemmar \nVärdar: Leif o Helena Thor \n
URL:http://automobilsallskapet.se/event/medlemsoppet-i-klubblokalen-11
END:VEVENT
END:VCALENDAR