BEGIN:VCALENDAR
VERSION:2.0
PRODID:-//Automobilsällskapet Nyköping - ECPv4.7.3//NONSGML v1.0//EN
CALSCALE:GREGORIAN
METHOD:PUBLISH
X-WR-CALNAME:Automobilsällskapet Nyköping
X-ORIGINAL-URL:http://automobilsallskapet.se
X-WR-CALDESC:Händelser för Automobilsällskapet Nyköping
BEGIN:VEVENT
DTSTART;TZID=Europe/Stockholm:20201122T120000
DTEND;TZID=Europe/Stockholm:20201122T160000
DTSTAMP:20260422T022136
CREATED:20200920T081057Z
LAST-MODIFIED:20201104T103504Z
UID:11291-1606046400-1606060800@automobilsallskapet.se
SUMMARY:Medlemsöppet i klubblokalen   INSTÄLLT
DESCRIPTION:INSTÄLLT  pga Covid-19 \n
URL:http://automobilsallskapet.se/event/medlemsoppet-i-klubblokalen-10
END:VEVENT
END:VCALENDAR