BEGIN:VCALENDAR
VERSION:2.0
PRODID:-//Automobilsällskapet Nyköping - ECPv4.7.3//NONSGML v1.0//EN
CALSCALE:GREGORIAN
METHOD:PUBLISH
X-WR-CALNAME:Automobilsällskapet Nyköping
X-ORIGINAL-URL:http://automobilsallskapet.se
X-WR-CALDESC:Händelser för Automobilsällskapet Nyköping
BEGIN:VEVENT
DTSTART;TZID=Europe/Stockholm:20200318T170000
DTEND;TZID=Europe/Stockholm:20200318T210000
DTSTAMP:20260426T022229
CREATED:20200101T162743Z
LAST-MODIFIED:20200314T161234Z
UID:10924-1584550800-1584565200@automobilsallskapet.se
SUMMARY:Medlemskväll  Tema: Skavstas framtid  INSTÄLLT
DESCRIPTION:
URL:http://automobilsallskapet.se/event/medlemskvall-tema-skavstas-framtid
END:VEVENT
END:VCALENDAR