BEGIN:VCALENDAR
VERSION:2.0
PRODID:-//Automobilsällskapet Nyköping - ECPv4.7.3//NONSGML v1.0//EN
CALSCALE:GREGORIAN
METHOD:PUBLISH
X-WR-CALNAME:Automobilsällskapet Nyköping
X-ORIGINAL-URL:http://automobilsallskapet.se
X-WR-CALDESC:Händelser för Automobilsällskapet Nyköping
BEGIN:VEVENT
DTSTART;TZID=Europe/Stockholm:20220302T173000
DTEND;TZID=Europe/Stockholm:20220302T210000
DTSTAMP:20260425T184515
CREATED:20220210T181327Z
LAST-MODIFIED:20220210T181327Z
UID:11775-1646242200-1646254800@automobilsallskapet.se
SUMMARY:Medlemskväll Tema: Saab med kvalitetsproblem
DESCRIPTION:Öppet: 17.30 – 21.00 \nDet finns fika från 17.30 och 18.00 släpper vi fram Torsten Åman som intervjuas av Hans Rainer om de kvalitetsproblem som Saab drabbades av på 90-talet. Vi ser en film från Trafikmagasinet där Torsten får svara på kluriga frågor från Perstad. Därefter får vi höra hur ”det verkligen var”. En kväll för riktiga Saab-nördar\, men även Volvoägare är välkomna. \nVärdar: Rojne o Elisabeth Pettersson \n  \n  \n  \n  \n  \n  \n  \n  \n  \n  \n  \n  \n  \n  \n  \n  \n  \n  \n  \n  \n
URL:http://automobilsallskapet.se/event/medlemskvall-tema-saab-med-kvalitetsproblem
END:VEVENT
END:VCALENDAR