BEGIN:VCALENDAR
VERSION:2.0
PRODID:-//Automobilsällskapet Nyköping - ECPv4.7.3//NONSGML v1.0//EN
CALSCALE:GREGORIAN
METHOD:PUBLISH
X-WR-CALNAME:Automobilsällskapet Nyköping
X-ORIGINAL-URL:http://automobilsallskapet.se
X-WR-CALDESC:Händelser för Automobilsällskapet Nyköping
BEGIN:VEVENT
DTSTART;TZID=Europe/Stockholm:20240306T173000
DTEND;TZID=Europe/Stockholm:20240306T200000
DTSTAMP:20260420T190643
CREATED:20231227T161108Z
LAST-MODIFIED:20231227T161108Z
UID:13184-1709746200-1709755200@automobilsallskapet.se
SUMMARY:Medlemskväll\, Tema Honda MC
DESCRIPTION:Björn Koefoed\, med många Hondahojar i sin samling\, visar bilder och berättar allt man behöver veta om Hondas historia. \nFikaservering från 17.30  –  Björn kickar igång 18.00 \nVärdar: Björn Lindeberg och Karin Olsson                                                    Evenemangsansvarig: Björn Lindeberg \n
URL:http://automobilsallskapet.se/event/medlemskvall-tema-honda-mc
END:VEVENT
END:VCALENDAR